BEGIN:VCALENDAR
PRODID:-//eluceo/ical//2.0/EN
VERSION:2.0
CALSCALE:GREGORIAN
BEGIN:VEVENT
UID:756cac94f37bb993a8b784f8fbaf9919
DTSTAMP:20260422T072455Z
SUMMARY:TS  Board Meeting
DESCRIPTION:Jewish Federation of Greater Naples\nCommunity Calendar\nhttps:
 //jewishnaples.org/calendar/calendar17582\n\nTS  Board Meeting
DTSTART;TZID=America/New_York:20160524T190000
DTEND;TZID=America/New_York:20160524T190000
END:VEVENT
END:VCALENDAR
