BEGIN:VCALENDAR
PRODID:-//eluceo/ical//2.0/EN
VERSION:2.0
CALSCALE:GREGORIAN
BEGIN:VEVENT
UID:1aabab406bcb733f362e9b5ae0f8af6b
DTSTAMP:20260423T194414Z
SUMMARY:TS  Sunday School Last Day
DESCRIPTION:Jewish Federation of Greater Naples\nCommunity Calendar\nhttps:
 //jewishnaples.org/calendar/calendar17578\n\nTS  Sunday School Last Day
DTSTART;TZID=America/New_York:20160522T093000
DTEND;TZID=America/New_York:20160522T093000
END:VEVENT
END:VCALENDAR
