BEGIN:VCALENDAR
PRODID:-//eluceo/ical//2.0/EN
VERSION:2.0
CALSCALE:GREGORIAN
BEGIN:VEVENT
UID:e0631672b45d18100f8a20a6c4a502ba
DTSTAMP:20260422T180443Z
SUMMARY:CHA  Services
DESCRIPTION:Jewish Federation of Greater Naples\nCommunity Calendar\nhttps:
 //jewishnaples.org/calendar/calendar17575\n\nCHA  Services
DTSTART;TZID=America/New_York:20160521T100000
DTEND;TZID=America/New_York:20160521T100000
END:VEVENT
END:VCALENDAR
