BEGIN:VCALENDAR
PRODID:-//eluceo/ical//2.0/EN
VERSION:2.0
CALSCALE:GREGORIAN
BEGIN:VEVENT
UID:8ea0eb02bd9f184d77eaa3b4bb50a265
DTSTAMP:20260423T130739Z
SUMMARY:BT Service
DESCRIPTION:Jewish Federation of Greater Naples\nCommunity Calendar\nhttps:
 //jewishnaples.org/calendar/calendar17571\n\nBT Service
DTSTART;TZID=America/New_York:20160520T181500
DTEND;TZID=America/New_York:20160520T181500
END:VEVENT
END:VCALENDAR
