BEGIN:VCALENDAR
PRODID:-//eluceo/ical//2.0/EN
VERSION:2.0
CALSCALE:GREGORIAN
BEGIN:VEVENT
UID:cff9b32a7c01d2fc4996ae8b63f09e65
DTSTAMP:20260424T081031Z
SUMMARY:BT  Board Meeting
DESCRIPTION:Jewish Federation of Greater Naples\nCommunity Calendar\nhttps:
 //jewishnaples.org/calendar/calendar17568\n\nBT  Board Meeting
DTSTART;TZID=America/New_York:20160519T160000
DTEND;TZID=America/New_York:20160519T160000
END:VEVENT
END:VCALENDAR
