BEGIN:VCALENDAR
PRODID:-//eluceo/ical//2.0/EN
VERSION:2.0
CALSCALE:GREGORIAN
BEGIN:VEVENT
UID:4affea3f2c1df9075bd2d857a28cb1f7
DTSTAMP:20260421T204925Z
SUMMARY:TS  Hebrew School Last Day
DESCRIPTION:Jewish Federation of Greater Naples\nCommunity Calendar\nhttps:
 //jewishnaples.org/calendar/calendar17564\n\nTS  Hebrew School Last Day
DTSTART;TZID=America/New_York:20160518T163000
DTEND;TZID=America/New_York:20160518T163000
END:VEVENT
END:VCALENDAR
