BEGIN:VCALENDAR
PRODID:-//eluceo/ical//2.0/EN
VERSION:2.0
CALSCALE:GREGORIAN
BEGIN:VEVENT
UID:0398d4d28ed729fde2622fe4154dc0c3
DTSTAMP:20260424T040549Z
SUMMARY:CHA  Hebrew School
DESCRIPTION:Jewish Federation of Greater Naples\nCommunity Calendar\nhttps:
 //jewishnaples.org/calendar/calendar17563\n\nCHA  Hebrew School
DTSTART;TZID=America/New_York:20160518T163000
DTEND;TZID=America/New_York:20160518T163000
END:VEVENT
END:VCALENDAR
