BEGIN:VCALENDAR
PRODID:-//eluceo/ical//2.0/EN
VERSION:2.0
CALSCALE:GREGORIAN
BEGIN:VEVENT
UID:0120d81ff9e19786c27e88032a8eb053
DTSTAMP:20260424T053915Z
SUMMARY:TS  Executive Committee Meeting
DESCRIPTION:Jewish Federation of Greater Naples\nCommunity Calendar\nhttps:
 //jewishnaples.org/calendar/calendar17560\n\nTS  Executive Committee Meeti
 ng
DTSTART;TZID=America/New_York:20160517T190000
DTEND;TZID=America/New_York:20160517T190000
END:VEVENT
END:VCALENDAR
