BEGIN:VCALENDAR
PRODID:-//eluceo/ical//2.0/EN
VERSION:2.0
CALSCALE:GREGORIAN
BEGIN:VEVENT
UID:9848823e6dfe803a516e0c679f78bb24
DTSTAMP:20260423T125414Z
SUMMARY:JCMI  Book Club
DESCRIPTION:Jewish Federation of Greater Naples\nCommunity Calendar\nhttps:
 //jewishnaples.org/calendar/calendar17557\n\nJCMI  Book Club
DTSTART;TZID=America/New_York:20160517T110000
DTEND;TZID=America/New_York:20160517T110000
END:VEVENT
END:VCALENDAR
