BEGIN:VCALENDAR
PRODID:-//eluceo/ical//2.0/EN
VERSION:2.0
CALSCALE:GREGORIAN
BEGIN:VEVENT
UID:71e9dcc3d204f47df85a059670ccc501
DTSTAMP:20260423T224620Z
SUMMARY:NJC Sisterhood Book CLub
DESCRIPTION:Jewish Federation of Greater Naples\nCommunity Calendar\nhttps:
 //jewishnaples.org/calendar/calendar17555\n\nNJC Sisterhood Book CLub
DTSTART;TZID=America/New_York:20160516T120000
DTEND;TZID=America/New_York:20160516T120000
END:VEVENT
END:VCALENDAR
