BEGIN:VCALENDAR
PRODID:-//eluceo/ical//2.0/EN
VERSION:2.0
CALSCALE:GREGORIAN
BEGIN:VEVENT
UID:cf59bc61608075d7f84da1b57fac9ccc
DTSTAMP:20260423T194446Z
SUMMARY:TS Sunday School
DESCRIPTION:Jewish Federation of Greater Naples\nCommunity Calendar\nhttps:
 //jewishnaples.org/calendar/calendar17553\n\nTS Sunday School
DTSTART;TZID=America/New_York:20160515T093000
DTEND;TZID=America/New_York:20160515T093000
END:VEVENT
END:VCALENDAR
