BEGIN:VCALENDAR
PRODID:-//eluceo/ical//2.0/EN
VERSION:2.0
CALSCALE:GREGORIAN
BEGIN:VEVENT
UID:eeb85b28c46f305f806649fceaff0b74
DTSTAMP:20260424T005136Z
SUMMARY:BT  Israel Night
DESCRIPTION:Jewish Federation of Greater Naples\nCommunity Calendar\nhttps:
 //jewishnaples.org/calendar/calendar17538\n\nBT  Israel Night
DTSTART;TZID=America/New_York:20160511T180000
DTEND;TZID=America/New_York:20160511T180000
END:VEVENT
END:VCALENDAR
