BEGIN:VCALENDAR
PRODID:-//eluceo/ical//2.0/EN
VERSION:2.0
CALSCALE:GREGORIAN
BEGIN:VEVENT
UID:ea7ed6411da1453b65c1672f4961114a
DTSTAMP:20260421T155121Z
SUMMARY:CHA Circle of Hearts & Partners
DESCRIPTION:Jewish Federation of Greater Naples\nCommunity Calendar\nhttps:
 //jewishnaples.org/calendar/calendar17529\n\nCHA Circle of Hearts & Partne
 rs
DTSTART;TZID=America/New_York:20160510T170000
DTEND;TZID=America/New_York:20160510T170000
END:VEVENT
END:VCALENDAR
