BEGIN:VCALENDAR
PRODID:-//eluceo/ical//2.0/EN
VERSION:2.0
CALSCALE:GREGORIAN
BEGIN:VEVENT
UID:f05cb77b8ad8d9c270d1cd2ed4796b54
DTSTAMP:20260424T071718Z
SUMMARY:TS  Sisterhood Luncheon
DESCRIPTION:Jewish Federation of Greater Naples\nCommunity Calendar\nhttps:
 //jewishnaples.org/calendar/calendar17526\n\nTS  Sisterhood Luncheon
DTSTART;TZID=America/New_York:20160510T113000
DTEND;TZID=America/New_York:20160510T113000
END:VEVENT
END:VCALENDAR
