BEGIN:VCALENDAR
PRODID:-//eluceo/ical//2.0/EN
VERSION:2.0
CALSCALE:GREGORIAN
BEGIN:VEVENT
UID:7079f84fde8465f05f37e4ecf0a10710
DTSTAMP:20260424T071758Z
SUMMARY:Rosh Chodesh
DESCRIPTION:Jewish Federation of Greater Naples\nCommunity Calendar\nhttps:
 //jewishnaples.org/calendar/calendar17524\n\nRosh Chodesh
DTSTART;TZID=America/New_York:20160509T000000
DTEND;TZID=America/New_York:20160510T000000
END:VEVENT
END:VCALENDAR
