BEGIN:VCALENDAR
PRODID:-//eluceo/ical//2.0/EN
VERSION:2.0
CALSCALE:GREGORIAN
BEGIN:VEVENT
UID:f0369074728d1f9b3cc73e0835327adf
DTSTAMP:20260422T233034Z
SUMMARY:BT  Sunday School
DESCRIPTION:Jewish Federation of Greater Naples\nCommunity Calendar\nhttps:
 //jewishnaples.org/calendar/calendar17522\n\nBT  Sunday School
DTSTART;TZID=America/New_York:20160508T090000
DTEND;TZID=America/New_York:20160508T090000
END:VEVENT
END:VCALENDAR
