BEGIN:VCALENDAR
PRODID:-//eluceo/ical//2.0/EN
VERSION:2.0
CALSCALE:GREGORIAN
BEGIN:VEVENT
UID:e11b5be8178b9cb6e9b365080190e942
DTSTAMP:20260424T085724Z
SUMMARY:Mother's Day
DESCRIPTION:Jewish Federation of Greater Naples\nCommunity Calendar\nhttps:
 //jewishnaples.org/calendar/calendar17520\n\nMother's Day
DTSTART;TZID=America/New_York:20160508T000000
DTEND;TZID=America/New_York:20160509T000000
END:VEVENT
END:VCALENDAR
