BEGIN:VCALENDAR
PRODID:-//eluceo/ical//2.0/EN
VERSION:2.0
CALSCALE:GREGORIAN
BEGIN:VEVENT
UID:5ff3ff09e1c7a3d8dc15aac34fc662cd
DTSTAMP:20260422T224903Z
SUMMARY:TS   Board of Directors Shabbat Services
DESCRIPTION:Jewish Federation of Greater Naples\nCommunity Calendar\nhttps:
 //jewishnaples.org/calendar/calendar17514\n\nTS   Board of Directors Shabb
 at Services
DTSTART;TZID=America/New_York:20160506T193000
DTEND;TZID=America/New_York:20160506T193000
END:VEVENT
END:VCALENDAR
