BEGIN:VCALENDAR
PRODID:-//eluceo/ical//2.0/EN
VERSION:2.0
CALSCALE:GREGORIAN
BEGIN:VEVENT
UID:fb47b453e688a332b622c48a580155b1
DTSTAMP:20260424T033702Z
SUMMARY:TS  Preschool Lion's Mother's Day Show
DESCRIPTION:Jewish Federation of Greater Naples\nCommunity Calendar\nhttps:
 //jewishnaples.org/calendar/calendar17510\n\nTS  Preschool Lion's Mother's
  Day Show
DTSTART;TZID=America/New_York:20160506T090000
DTEND;TZID=America/New_York:20160506T090000
END:VEVENT
END:VCALENDAR
