BEGIN:VCALENDAR
PRODID:-//eluceo/ical//2.0/EN
VERSION:2.0
CALSCALE:GREGORIAN
BEGIN:VEVENT
UID:375a336291426d8e44be7deaaaa0b1ed
DTSTAMP:20260422T215142Z
SUMMARY:Yom Ha'Shoah
DESCRIPTION:Jewish Federation of Greater Naples\nCommunity Calendar\nhttps:
 //jewishnaples.org/calendar/calendar17508\n\nYom Ha'Shoah
DTSTART;TZID=America/New_York:20160505T000000
DTEND;TZID=America/New_York:20160506T000000
END:VEVENT
END:VCALENDAR
