BEGIN:VCALENDAR
PRODID:-//eluceo/ical//2.0/EN
VERSION:2.0
CALSCALE:GREGORIAN
BEGIN:VEVENT
UID:0b31d4422c947e0c7ef819a6bd525579
DTSTAMP:20260423T224752Z
SUMMARY:BT  Rabbi's Study Course
DESCRIPTION:Jewish Federation of Greater Naples\nCommunity Calendar\nhttps:
 //jewishnaples.org/calendar/calendar17507\n\nBT  Rabbi's Study Course
DTSTART;TZID=America/New_York:20160504T193000
DTEND;TZID=America/New_York:20160504T193000
END:VEVENT
END:VCALENDAR
