BEGIN:VCALENDAR
PRODID:-//eluceo/ical//2.0/EN
VERSION:2.0
CALSCALE:GREGORIAN
BEGIN:VEVENT
UID:eddbf8e5059a54bc057d5754a92bee78
DTSTAMP:20260423T001616Z
SUMMARY:JCRC Meeting
DESCRIPTION:Jewish Federation of Greater Naples\nCommunity Calendar\nhttps:
 //jewishnaples.org/calendar/calendar17501\n\nJCRC Meeting
DTSTART;TZID=America/New_York:20160504T133000
DTEND;TZID=America/New_York:20160504T133000
END:VEVENT
END:VCALENDAR
