BEGIN:VCALENDAR
PRODID:-//eluceo/ical//2.0/EN
VERSION:2.0
CALSCALE:GREGORIAN
BEGIN:VEVENT
UID:ca37d2c28b790e53e40bcd61dcdaf331
DTSTAMP:20260422T180844Z
SUMMARY:CJD - Committee Meeting
DESCRIPTION:Jewish Federation of Greater Naples\nCommunity Calendar\nhttps:
 //jewishnaples.org/calendar/calendar17496\n\nCJD - Committee Meeting
DTSTART;TZID=America/New_York:20160503T133000
DTEND;TZID=America/New_York:20160503T133000
END:VEVENT
END:VCALENDAR
