BEGIN:VCALENDAR
PRODID:-//eluceo/ical//2.0/EN
VERSION:2.0
CALSCALE:GREGORIAN
BEGIN:VEVENT
UID:98aea1820ca4719ec5bc1a787d9c27a1
DTSTAMP:20260422T103608Z
SUMMARY:BBYO Board Meeting
DESCRIPTION:Jewish Federation of Greater Naples\nCommunity Calendar\nhttps:
 //jewishnaples.org/calendar/calendar17493\n\nBBYO Board Meeting
DTSTART;TZID=America/New_York:20160503T100000
DTEND;TZID=America/New_York:20160503T100000
END:VEVENT
END:VCALENDAR
