BEGIN:VCALENDAR
PRODID:-//eluceo/ical//2.0/EN
VERSION:2.0
CALSCALE:GREGORIAN
BEGIN:VEVENT
UID:9b427ef3dea9493b5a787fe1b0af87f9
DTSTAMP:20260423T180113Z
SUMMARY:HDH Board Meeting
DESCRIPTION:Jewish Federation of Greater Naples\nCommunity Calendar\nhttps:
 //jewishnaples.org/calendar/calendar17491\n\nHDH Board Meeting
DTSTART;TZID=America/New_York:20160502T130000
DTEND;TZID=America/New_York:20160502T130000
END:VEVENT
END:VCALENDAR
