BEGIN:VCALENDAR
PRODID:-//eluceo/ical//2.0/EN
VERSION:2.0
CALSCALE:GREGORIAN
BEGIN:VEVENT
UID:312066f045a5c6de3fe957e191f06847
DTSTAMP:20260424T050106Z
SUMMARY:TS  Annual Meeting
DESCRIPTION:Jewish Federation of Greater Naples\nCommunity Calendar\nhttps:
 //jewishnaples.org/calendar/calendar17490\n\nTS  Annual Meeting
DTSTART;TZID=America/New_York:20160501T100000
DTEND;TZID=America/New_York:20160501T100000
END:VEVENT
END:VCALENDAR
