BEGIN:VCALENDAR
PRODID:-//eluceo/ical//2.0/EN
VERSION:2.0
CALSCALE:GREGORIAN
BEGIN:VEVENT
UID:1fa60b64c96cdc8376380a5c122b92eb
DTSTAMP:20260423T003246Z
SUMMARY:TS Sunday School
DESCRIPTION:Jewish Federation of Greater Naples\nCommunity Calendar\nhttps:
 //jewishnaples.org/calendar/calendar17489\n\nTS Sunday School
DTSTART;TZID=America/New_York:20160501T093000
DTEND;TZID=America/New_York:20160501T093000
END:VEVENT
END:VCALENDAR
