BEGIN:VCALENDAR
PRODID:-//eluceo/ical//2.0/EN
VERSION:2.0
CALSCALE:GREGORIAN
BEGIN:VEVENT
UID:f290ff2a37e435db1e116a144a2f18b0
DTSTAMP:20260422T190338Z
SUMMARY:TS  Yizkor Service
DESCRIPTION:Jewish Federation of Greater Naples\nCommunity Calendar\nhttps:
 //jewishnaples.org/calendar/calendar17479\n\nTS  Yizkor Service
DTSTART;TZID=America/New_York:20160429T100000
DTEND;TZID=America/New_York:20160429T100000
END:VEVENT
END:VCALENDAR
