BEGIN:VCALENDAR
PRODID:-//eluceo/ical//2.0/EN
VERSION:2.0
CALSCALE:GREGORIAN
BEGIN:VEVENT
UID:69f0254d66ceede1e7952ca3acec2b8a
DTSTAMP:20260424T033451Z
SUMMARY:NJC Adult Enrichment
DESCRIPTION:Jewish Federation of Greater Naples\nCommunity Calendar\nhttps:
 //jewishnaples.org/calendar/calendar17459\n\nNJC Adult Enrichment
DTSTART;TZID=America/New_York:20160424T103000
DTEND;TZID=America/New_York:20160424T103000
END:VEVENT
END:VCALENDAR
