BEGIN:VCALENDAR
PRODID:-//eluceo/ical//2.0/EN
VERSION:2.0
CALSCALE:GREGORIAN
BEGIN:VEVENT
UID:afbd0d11d9738d7738c90dd26371c130
DTSTAMP:20260423T130916Z
SUMMARY:TS  Congregational 2nd Night Seder
DESCRIPTION:Jewish Federation of Greater Naples\nCommunity Calendar\nhttps:
 //jewishnaples.org/calendar/calendar17456\n\nTS  Congregational 2nd Night 
 Seder
DTSTART;TZID=America/New_York:20160423T180000
DTEND;TZID=America/New_York:20160423T180000
END:VEVENT
END:VCALENDAR
