BEGIN:VCALENDAR
PRODID:-//eluceo/ical//2.0/EN
VERSION:2.0
CALSCALE:GREGORIAN
BEGIN:VEVENT
UID:79b2f270fe6ecca1ac90aa287dbdd4d7
DTSTAMP:20260422T214704Z
SUMMARY:CHA Pesach Services
DESCRIPTION:Jewish Federation of Greater Naples\nCommunity Calendar\nhttps:
 //jewishnaples.org/calendar/calendar17453\n\nCHA Pesach Services
DTSTART;TZID=America/New_York:20160423T100000
DTEND;TZID=America/New_York:20160423T100000
END:VEVENT
END:VCALENDAR
