BEGIN:VCALENDAR
PRODID:-//eluceo/ical//2.0/EN
VERSION:2.0
CALSCALE:GREGORIAN
BEGIN:VEVENT
UID:70d54e4c33f4a3fd1adf9776b23d557c
DTSTAMP:20260423T175525Z
SUMMARY:Pesach
DESCRIPTION:Jewish Federation of Greater Naples\nCommunity Calendar\nhttps:
 //jewishnaples.org/calendar/calendar17451\n\nPesach
DTSTART;TZID=America/New_York:20160423T000000
DTEND;TZID=America/New_York:20160501T000000
END:VEVENT
END:VCALENDAR
