BEGIN:VCALENDAR
PRODID:-//eluceo/ical//2.0/EN
VERSION:2.0
CALSCALE:GREGORIAN
BEGIN:VEVENT
UID:80752aba87ad4ba4fb66b53476c87d70
DTSTAMP:20260422T110541Z
SUMMARY:JCMI  Services
DESCRIPTION:Jewish Federation of Greater Naples\nCommunity Calendar\nhttps:
 //jewishnaples.org/calendar/calendar17450\n\nJCMI  Services
DTSTART;TZID=America/New_York:20160422T200000
DTEND;TZID=America/New_York:20160422T200000
END:VEVENT
END:VCALENDAR
