BEGIN:VCALENDAR
PRODID:-//eluceo/ical//2.0/EN
VERSION:2.0
CALSCALE:GREGORIAN
BEGIN:VEVENT
UID:8642baf1c808616e147a7d4e1cce4083
DTSTAMP:20260422T174728Z
SUMMARY:TS  Executive Committee Meeting
DESCRIPTION:Jewish Federation of Greater Naples\nCommunity Calendar\nhttps:
 //jewishnaples.org/calendar/calendar17434\n\nTS  Executive Committee Meeti
 ng
DTSTART;TZID=America/New_York:20160419T190000
DTEND;TZID=America/New_York:20160419T190000
END:VEVENT
END:VCALENDAR
