BEGIN:VCALENDAR
PRODID:-//eluceo/ical//2.0/EN
VERSION:2.0
CALSCALE:GREGORIAN
BEGIN:VEVENT
UID:1d2afd5c20878ddaef2888a34e388c22
DTSTAMP:20260424T071648Z
SUMMARY:JCMI  Book Club
DESCRIPTION:Jewish Federation of Greater Naples\nCommunity Calendar\nhttps:
 //jewishnaples.org/calendar/calendar17431\n\nJCMI  Book Club
DTSTART;TZID=America/New_York:20160419T110000
DTEND;TZID=America/New_York:20160419T110000
END:VEVENT
END:VCALENDAR
