BEGIN:VCALENDAR
PRODID:-//eluceo/ical//2.0/EN
VERSION:2.0
CALSCALE:GREGORIAN
BEGIN:VEVENT
UID:ea563b4cd9be6720191fb7dd062f1f07
DTSTAMP:20260424T050635Z
SUMMARY:JCMI  Bingo
DESCRIPTION:Jewish Federation of Greater Naples\nCommunity Calendar\nhttps:
 //jewishnaples.org/calendar/calendar17429\n\nJCMI  Bingo
DTSTART;TZID=America/New_York:20160418T173000
DTEND;TZID=America/New_York:20160418T173000
END:VEVENT
END:VCALENDAR
