BEGIN:VCALENDAR
PRODID:-//eluceo/ical//2.0/EN
VERSION:2.0
CALSCALE:GREGORIAN
BEGIN:VEVENT
UID:c109e61cb415451a5b9f9d3c786cbef0
DTSTAMP:20260423T162333Z
SUMMARY:HDH Daytime Study Group - TS
DESCRIPTION:Jewish Federation of Greater Naples\nCommunity Calendar\nhttps:
 //jewishnaples.org/calendar/calendar17428\n\nHDH Daytime Study Group - TS
DTSTART;TZID=America/New_York:20160418T130000
DTEND;TZID=America/New_York:20160418T130000
END:VEVENT
END:VCALENDAR
