BEGIN:VCALENDAR
PRODID:-//eluceo/ical//2.0/EN
VERSION:2.0
CALSCALE:GREGORIAN
BEGIN:VEVENT
UID:efe0a6ea69bc98c6dcaa77621d706765
DTSTAMP:20260422T174814Z
SUMMARY:BT Services
DESCRIPTION:Jewish Federation of Greater Naples\nCommunity Calendar\nhttps:
 //jewishnaples.org/calendar/calendar17417\n\nBT Services
DTSTART;TZID=America/New_York:20160416T093000
DTEND;TZID=America/New_York:20160416T093000
END:VEVENT
END:VCALENDAR
