BEGIN:VCALENDAR
PRODID:-//eluceo/ical//2.0/EN
VERSION:2.0
CALSCALE:GREGORIAN
BEGIN:VEVENT
UID:6226821cb53310a2f6e8a61cb8094209
DTSTAMP:20260423T005805Z
SUMMARY:NJC Services
DESCRIPTION:Jewish Federation of Greater Naples\nCommunity Calendar\nhttps:
 //jewishnaples.org/calendar/calendar17414\n\nNJC Services
DTSTART;TZID=America/New_York:20160415T193000
DTEND;TZID=America/New_York:20160415T200000
END:VEVENT
END:VCALENDAR
