BEGIN:VCALENDAR
PRODID:-//eluceo/ical//2.0/EN
VERSION:2.0
CALSCALE:GREGORIAN
BEGIN:VEVENT
UID:81983af8707aecbb66b83c23800c2fdd
DTSTAMP:20260424T061931Z
SUMMARY:WCA Board Meeting
DESCRIPTION:Jewish Federation of Greater Naples\nCommunity Calendar\nhttps:
 //jewishnaples.org/calendar/calendar17412\n\nWCA Board Meeting
DTSTART;TZID=America/New_York:20160415T090000
DTEND;TZID=America/New_York:20160415T090000
END:VEVENT
END:VCALENDAR
