BEGIN:VCALENDAR
PRODID:-//eluceo/ical//2.0/EN
VERSION:2.0
CALSCALE:GREGORIAN
BEGIN:VEVENT
UID:26273e68400cd0d9e74a036adc09c3e7
DTSTAMP:20260419T231408Z
SUMMARY:HDH Evening Activity Group
DESCRIPTION:Jewish Federation of Greater Naples\nCommunity Calendar\nhttps:
 //jewishnaples.org/calendar/calendar17410\n\nHDH Evening Activity Group
DTSTART;TZID=America/New_York:20160414T183000
DTEND;TZID=America/New_York:20160414T183000
END:VEVENT
END:VCALENDAR
