BEGIN:VCALENDAR
PRODID:-//eluceo/ical//2.0/EN
VERSION:2.0
CALSCALE:GREGORIAN
BEGIN:VEVENT
UID:ea34726e7b0549da118247db143c732e
DTSTAMP:20260423T220503Z
SUMMARY:BBYO  Youth Activity
DESCRIPTION:Jewish Federation of Greater Naples\nCommunity Calendar\nhttps:
 //jewishnaples.org/calendar/calendar17409\n\nBBYO  Youth Activity
DTSTART;TZID=America/New_York:20160414T180000
DTEND;TZID=America/New_York:20160414T180000
END:VEVENT
END:VCALENDAR
