BEGIN:VCALENDAR
PRODID:-//eluceo/ical//2.0/EN
VERSION:2.0
CALSCALE:GREGORIAN
BEGIN:VEVENT
UID:133d3f48338b6d44a1fa687f0a11d0d1
DTSTAMP:20260422T203543Z
SUMMARY:CHA  Men's Club
DESCRIPTION:Jewish Federation of Greater Naples\nCommunity Calendar\nhttps:
 //jewishnaples.org/calendar/calendar17406\n\nCHA  Men's Club
DTSTART;TZID=America/New_York:20160414T113000
DTEND;TZID=America/New_York:20160414T113000
END:VEVENT
END:VCALENDAR
