BEGIN:VCALENDAR
PRODID:-//eluceo/ical//2.0/EN
VERSION:2.0
CALSCALE:GREGORIAN
BEGIN:VEVENT
UID:271003df2c123c245fb8aca600979d86
DTSTAMP:20260420T073106Z
SUMMARY:BT  Hebrew School
DESCRIPTION:Jewish Federation of Greater Naples\nCommunity Calendar\nhttps:
 //jewishnaples.org/calendar/calendar17401\n\nBT  Hebrew School
DTSTART;TZID=America/New_York:20160413T163000
DTEND;TZID=America/New_York:20160413T163000
END:VEVENT
END:VCALENDAR
