BEGIN:VCALENDAR
PRODID:-//eluceo/ical//2.0/EN
VERSION:2.0
CALSCALE:GREGORIAN
BEGIN:VEVENT
UID:60b79f085ea7b7da1df19960aff65727
DTSTAMP:20260422T211356Z
SUMMARY:JCMI  Bridge
DESCRIPTION:Jewish Federation of Greater Naples\nCommunity Calendar\nhttps:
 //jewishnaples.org/calendar/calendar17398\n\nJCMI  Bridge
DTSTART;TZID=America/New_York:20160413T130000
DTEND;TZID=America/New_York:20160413T130000
END:VEVENT
END:VCALENDAR
