BEGIN:VCALENDAR
PRODID:-//eluceo/ical//2.0/EN
VERSION:2.0
CALSCALE:GREGORIAN
BEGIN:VEVENT
UID:5c28dea34031f3b67eabc6b20715999e
DTSTAMP:20260421T234142Z
SUMMARY:JFCC Board Meeting
DESCRIPTION:Jewish Federation of Greater Naples\nCommunity Calendar\nhttps:
 //jewishnaples.org/calendar/calendar17396\n\nJFCC Board Meeting
DTSTART;TZID=America/New_York:20160412T193000
DTEND;TZID=America/New_York:20160412T193000
END:VEVENT
END:VCALENDAR
