BEGIN:VCALENDAR
PRODID:-//eluceo/ical//2.0/EN
VERSION:2.0
CALSCALE:GREGORIAN
BEGIN:VEVENT
UID:08d5700289c6b483bee9a25fddac2f14
DTSTAMP:20260423T223221Z
SUMMARY:JFCC Annual Mtg
DESCRIPTION:Jewish Federation of Greater Naples\nCommunity Calendar\nhttps:
 //jewishnaples.org/calendar/calendar17395\n\nJFCC Annual Mtg
DTSTART;TZID=America/New_York:20160412T190000
DTEND;TZID=America/New_York:20160412T190000
END:VEVENT
END:VCALENDAR
