BEGIN:VCALENDAR
PRODID:-//eluceo/ical//2.0/EN
VERSION:2.0
CALSCALE:GREGORIAN
BEGIN:VEVENT
UID:a1665899345ce24d1e9e90690b73c181
DTSTAMP:20260423T151902Z
SUMMARY:TS  Sisterhood Luncheon
DESCRIPTION:Jewish Federation of Greater Naples\nCommunity Calendar\nhttps:
 //jewishnaples.org/calendar/calendar17392\n\nTS  Sisterhood Luncheon
DTSTART;TZID=America/New_York:20160412T113000
DTEND;TZID=America/New_York:20160412T113000
END:VEVENT
END:VCALENDAR
