BEGIN:VCALENDAR
PRODID:-//eluceo/ical//2.0/EN
VERSION:2.0
CALSCALE:GREGORIAN
BEGIN:VEVENT
UID:1dd58f70d611ac24827b1900444ad3aa
DTSTAMP:20260424T000058Z
SUMMARY:TS  Women's Seder
DESCRIPTION:Jewish Federation of Greater Naples\nCommunity Calendar\nhttps:
 //jewishnaples.org/calendar/calendar17389\n\nTS  Women's Seder
DTSTART;TZID=America/New_York:20160411T180000
DTEND;TZID=America/New_York:20160411T180000
END:VEVENT
END:VCALENDAR
