BEGIN:VCALENDAR
PRODID:-//eluceo/ical//2.0/EN
VERSION:2.0
CALSCALE:GREGORIAN
BEGIN:VEVENT
UID:decfa1b6c924d114493185ebf24e4326
DTSTAMP:20260423T231456Z
SUMMARY:JCMI  Bingo
DESCRIPTION:Jewish Federation of Greater Naples\nCommunity Calendar\nhttps:
 //jewishnaples.org/calendar/calendar17388\n\nJCMI  Bingo
DTSTART;TZID=America/New_York:20160411T173000
DTEND;TZID=America/New_York:20160411T173000
END:VEVENT
END:VCALENDAR
